Workbook

Sheet RU_Info
A1: RU leader Family Name | B1: RU leader First Name | C1: email | D1: Country | E1: City | F1: Name of the RU | G1: (First) Institution Name | H1: (First) Institution Acronym | I1: Affiliated Institutions | J1: Affiliated Institutions Acronyms
A5: This Collaboration Agreement between the participating Research Unit (RU) named
A6: =F2 -> 0
A7: and the Einstein Telescope Collaboration is a collaborative agreement between scientists and does not constitute a legal contractual obligation on the part of the Signatories. The Research Unit can withdraw from the Collaboration at any time, by written declaration to the Spokesperson. The Research Unit will be represented in the Collaboration Board according to the rules given in the Einstein Telescope Collaboration Bylaws. In the first year of the existence of the ET Collaboration (June 2022 - end of May 2023) the Research Unit Leader will be the representative in the Collaboration Board; The Research Unit has got the right to accept new members to the RU at any time. It will inform the Collaboration about the addition, by sending an informal note to the Collaboration Agreement Document (CAD) Committee.
A15: The RU intends to work on the topics listed in the next sheets of this file, to provide the listed FTEs, and to aim for the listed milestones and service work.
A17: The RU leader | B17: =_xlfn.CONCAT(B2," ",A2)

Sheet RU_Description
A1: =CONCATENATE("Name: ",RU_Info!F2) -> Name: | B1: Insert here a general description of the RU

Sheet RU_Members
A1: N | B1: Family Name | C1: First Name | D1: Position | E1: Expertise | F1: FRTE [0.1,1] | G1: Expected Activity | H1: Milestones | I1: CB | J1: EIB | K1: ISB | L1: OSB | M1: SCB | N1: Other Scientific Collaborations | O1: Main Affiliation | P1: Other affiliations | Q1: RU
A2: 1 | Q2: =RU_Info!$F$2 -> 0
A3: 2 | Q3: =RU_Info!$F$2 -> 0
A4: 3 | Q4: =RU_Info!$F$2 -> 0
A5: 4 | Q5: =RU_Info!$F$2 -> 0
A6: 5 | Q6: =RU_Info!$F$2 -> 0
A7: 6 | Q7: =RU_Info!$F$2 -> 0
A8: 7 | Q8: =RU_Info!$F$2 -> 0
A9: 8 | Q9: =RU_Info!$F$2 -> 0
A10: 9 | Q10: =RU_Info!$F$2 -> 0
A11: 10 | Q11: =RU_Info!$F$2 -> 0
A12: 11 | Q12: =RU_Info!$F$2 -> 0
A13: 12 | Q13: =RU_Info!$F$2 -> 0
... A21: 20 | Q21: =RU_Info!$F$2 -> 0
Q22: =RU_Info!$F$2 -> 0
Q23: =RU_Info!$F$2 -> 0
Q24: =RU_Info!$F$2 -> 0
Q25: =RU_Info!$F$2 -> 0
Q26: =RU_Info!$F$2 -> 0
Q27: =RU_Info!$F$2 -> 0
Q28: =RU_Info!$F$2 -> 0
Q29: =RU_Info!$F$2 -> 0
Q30: =RU_Info!$F$2 -> 0
Q31: =RU_Info!$F$2 -> 0
Q32: =RU_Info!$F$2 -> 0
Q33: =RU_Info!$F$2 -> 0
... Q44: =RU_Info!$F$2 -> 0

Sheet Countries
A1: Afghanistan
A2: Albania
A3: Algeria
A4: Andorra
A5: Angola
A6: Antigua & Deps
A7: Argentina
A8: Armenia
A9: Australia
A10: Austria
A11: Azerbaijan
A12: Bahamas
... A196: Zimbabwe
